BEGIN:VCALENDAR
VERSION:2.0
PRODID:-//WinCAM - ECPv6.15.17.1//NONSGML v1.0//EN
CALSCALE:GREGORIAN
METHOD:PUBLISH
X-ORIGINAL-URL:https://wincam.org
X-WR-CALDESC:Events for WinCAM
REFRESH-INTERVAL;VALUE=DURATION:PT1H
X-Robots-Tag:noindex
X-PUBLISHED-TTL:PT1H
BEGIN:VTIMEZONE
TZID:UTC
BEGIN:STANDARD
TZOFFSETFROM:+0000
TZOFFSETTO:+0000
TZNAME:UTC
DTSTART:20160101T000000
END:STANDARD
END:VTIMEZONE
BEGIN:VEVENT
DTSTART;VALUE=DATE:20170603
DTEND;VALUE=DATE:20170604
DTSTAMP:20260422T115456
CREATED:20170526T200217Z
LAST-MODIFIED:20170526T200914Z
UID:1557-1496448000-1496534399@wincam.org
SUMMARY:Winchester Town Day
DESCRIPTION:WinCAM will be a part of this great Winchester tradition\, and we need you to help gather as much footage as we can. Stop by the WinCAM booth or sign up to cover some of the events throughout the day. Email suzettef@wincam.org for more details.
URL:https://wincam.org/event/winchester-town-day/
LOCATION:Downtown Winchester\, MA\, 01890\, United States
CATEGORIES:Community Event
ATTACH;FMTTYPE=image/jpeg:https://wincam.org/wp-content/uploads/2017/05/dscf3978.jpg
END:VEVENT
END:VCALENDAR