BEGIN:VCALENDAR
VERSION:2.0
PRODID:-//WinCAM - ECPv6.15.17.1//NONSGML v1.0//EN
CALSCALE:GREGORIAN
METHOD:PUBLISH
X-ORIGINAL-URL:https://wincam.org
X-WR-CALDESC:Events for WinCAM
REFRESH-INTERVAL;VALUE=DURATION:PT1H
X-Robots-Tag:noindex
X-PUBLISHED-TTL:PT1H
BEGIN:VTIMEZONE
TZID:UTC
BEGIN:STANDARD
TZOFFSETFROM:+0000
TZOFFSETTO:+0000
TZNAME:UTC
DTSTART:20160101T000000
END:STANDARD
END:VTIMEZONE
BEGIN:VEVENT
DTSTART;TZID=UTC:20170315T180000
DTEND;TZID=UTC:20170315T190000
DTSTAMP:20260422T134355
CREATED:20170131T083146Z
LAST-MODIFIED:20170201T065651Z
UID:742-1489600800-1489604400@wincam.org
SUMMARY:STU 201: Advanced Studio B: Podcasting Basics
DESCRIPTION:Have you ever been interested in learning how to start your own podcast? Take this Podcasting Basics class to find out how to get started. You will learn steps on how to record\, how to choose a topic as well as tips on keeping your podcast entertaining.
URL:https://wincam.org/event/stu-201-advanced-studio-b-podcasting-basics-2/
LOCATION:WinCAM\, 32 Swanton St\, Winchester\, MA\, United States
CATEGORIES:STU-201
ATTACH;FMTTYPE=image/jpeg:https://wincam.org/wp-content/uploads/2017/01/9_stu-201-1.jpg
ORGANIZER;CN="WinCAM Training":MAILTO:suzettef@wincam.org
END:VEVENT
BEGIN:VEVENT
DTSTART;TZID=UTC:20170215T180000
DTEND;TZID=UTC:20170215T190000
DTSTAMP:20260422T134355
CREATED:20170131T083112Z
LAST-MODIFIED:20170201T065747Z
UID:743-1487181600-1487185200@wincam.org
SUMMARY:STU 201: Advanced Studio B: Podcasting Basics
DESCRIPTION:Have you ever been interested in learning how to start your own podcast? Take this Podcasting Basics class to find out how to get started. You will learn steps on how to record\, how to choose a topic as well as tips on keeping your podcast entertaining.
URL:https://wincam.org/event/stu-201-advanced-studio-b-podcasting-basics/
LOCATION:WinCAM\, 32 Swanton St\, Winchester\, MA\, United States
CATEGORIES:STU-201
ATTACH;FMTTYPE=image/jpeg:https://wincam.org/wp-content/uploads/2017/01/9_stu-201-1.jpg
ORGANIZER;CN="WinCAM Training":MAILTO:suzettef@wincam.org
END:VEVENT
END:VCALENDAR