BEGIN:VCALENDAR
VERSION:2.0
PRODID:-//WinCAM - ECPv6.15.17.1//NONSGML v1.0//EN
CALSCALE:GREGORIAN
METHOD:PUBLISH
X-ORIGINAL-URL:https://wincam.org
X-WR-CALDESC:Events for WinCAM
REFRESH-INTERVAL;VALUE=DURATION:PT1H
X-Robots-Tag:noindex
X-PUBLISHED-TTL:PT1H
BEGIN:VTIMEZONE
TZID:UTC
BEGIN:STANDARD
TZOFFSETFROM:+0000
TZOFFSETTO:+0000
TZNAME:UTC
DTSTART:20160101T000000
END:STANDARD
END:VTIMEZONE
BEGIN:VEVENT
DTSTART;TZID=UTC:20170321T180000
DTEND;TZID=UTC:20170321T193000
DTSTAMP:20260422T145824
CREATED:20170131T082249Z
LAST-MODIFIED:20170201T065642Z
UID:732-1490119200-1490124600@wincam.org
SUMMARY:GFX 101B: Introduction to Motion 5
DESCRIPTION:Motion 5 will allow users to create and edit motion graphics\, animations\, and titles for video production including 2D and 3D composition. These graphics can be used directly with Final Cut Pro X. \nIn this class we will cover: \n\nUser Interface\nTemplates\nGroups and Layers\nBehaviors and Keyframes\nCamera movement and lights
URL:https://wincam.org/event/gfx-101b-introduction-motion-5-2/
LOCATION:WinCAM\, 32 Swanton St\, Winchester\, MA\, United States
CATEGORIES:GFX-101B
ATTACH;FMTTYPE=image/jpeg:https://wincam.org/wp-content/uploads/2017/01/4_gfx101b-1.jpg
ORGANIZER;CN="WinCAM Training":MAILTO:suzettef@wincam.org
END:VEVENT
BEGIN:VEVENT
DTSTART;TZID=UTC:20170316T180000
DTEND;TZID=UTC:20170316T193000
DTSTAMP:20260422T145824
CREATED:20170131T082731Z
LAST-MODIFIED:20170201T065648Z
UID:740-1489687200-1489692600@wincam.org
SUMMARY:EDT 102: Basic Editing with Final Cut Pro X
DESCRIPTION:Whether you’re editing for the first time or transitioning from Final Cut Pro 7 to X\, this class will teach you the basics of FCPX. This is a great beginner’s class to get you started and once you complete this class\, we encourage you to start editing your own projects in FCPX at your convenience to become more familiar and comfortable editing in FCPX. \nIn this class we will cover: \n\nUser Interface\nOverview of Libraries\, Events\, and Projects\nBasic Video and Audio Editing (tools\, effects\, transitions\, themes\, etc)\nExporting your final project
URL:https://wincam.org/event/edt-102-basic-editing-final-cut-pro-x-2/
LOCATION:WinCAM\, 32 Swanton St\, Winchester\, MA\, United States
CATEGORIES:EDT-102
ORGANIZER;CN="WinCAM Training":MAILTO:suzettef@wincam.org
END:VEVENT
BEGIN:VEVENT
DTSTART;TZID=UTC:20170315T180000
DTEND;TZID=UTC:20170315T190000
DTSTAMP:20260422T145824
CREATED:20170131T083146Z
LAST-MODIFIED:20170201T065651Z
UID:742-1489600800-1489604400@wincam.org
SUMMARY:STU 201: Advanced Studio B: Podcasting Basics
DESCRIPTION:Have you ever been interested in learning how to start your own podcast? Take this Podcasting Basics class to find out how to get started. You will learn steps on how to record\, how to choose a topic as well as tips on keeping your podcast entertaining.
URL:https://wincam.org/event/stu-201-advanced-studio-b-podcasting-basics-2/
LOCATION:WinCAM\, 32 Swanton St\, Winchester\, MA\, United States
CATEGORIES:STU-201
ATTACH;FMTTYPE=image/jpeg:https://wincam.org/wp-content/uploads/2017/01/9_stu-201-1.jpg
ORGANIZER;CN="WinCAM Training":MAILTO:suzettef@wincam.org
END:VEVENT
BEGIN:VEVENT
DTSTART;TZID=UTC:20170314T060000
DTEND;TZID=UTC:20170314T190000
DTSTAMP:20260422T145824
CREATED:20170131T075133Z
LAST-MODIFIED:20170201T065655Z
UID:708-1489471200-1489518000@wincam.org
SUMMARY:GFX 101A: Introduction to Photoshop Elements 11
DESCRIPTION:In this workshop\, you will learn the basics of Adobe Photoshop Elements. This software will allow you to edit\, enhance\, and retouch your photographs. Get creative as you want with Photoshop Elements using text\, brushes\, and even filters. This is a great program to learn if you would like to preserve your photos and keep them as a digital file. \nIn this class we will cover: \n\nLayout and workspace\nUnderstanding layers\nUsing texts\, filters\, and brushes\nResizing/cropping images\nConverting to black & white\nEnhancing your photos
URL:https://wincam.org/event/gfx-101a-introduction-photoshop-elements-11-2/
LOCATION:WinCAM\, 32 Swanton St\, Winchester\, MA\, United States
CATEGORIES:GFX-101A
ORGANIZER;CN="WinCAM Training":MAILTO:suzettef@wincam.org
END:VEVENT
BEGIN:VEVENT
DTSTART;TZID=UTC:20170307T180000
DTEND;TZID=UTC:20170307T190000
DTSTAMP:20260422T145824
CREATED:20170131T074320Z
LAST-MODIFIED:20170201T065714Z
UID:699-1488909600-1488913200@wincam.org
SUMMARY:FLD 101: Introduction to Field Production
DESCRIPTION:This class will teach you the basic functionalities of the field cameras (Canon Vixia and JVC GY- HM150U) and the use of tripods\, microphones\, cables\, etc. In this class\, you will learn about the process of creating a video from pre-production to production to post-production. We will cover various topics including but not limited to: \n\nCamera and tripod set up\nCamera functions\nCamera angles/moves\nGathering audio\nShot composition/framing (rule of thirds/180 degree rule)
URL:https://wincam.org/event/fld-101-introduction-field-production-2/
LOCATION:WinCAM\, 32 Swanton St\, Winchester\, MA\, United States
CATEGORIES:FLD-101
ATTACH;FMTTYPE=image/jpeg:https://wincam.org/wp-content/uploads/2017/01/1_fld-101-1.jpg
ORGANIZER;CN="WinCAM Training":MAILTO:suzettef@wincam.org
END:VEVENT
BEGIN:VEVENT
DTSTART;TZID=UTC:20170221T180000
DTEND;TZID=UTC:20170221T193000
DTSTAMP:20260422T145824
CREATED:20170131T082119Z
LAST-MODIFIED:20170201T065717Z
UID:733-1487700000-1487705400@wincam.org
SUMMARY:GFX 101B: Introduction to Motion 5
DESCRIPTION:Motion 5 will allow users to create and edit motion graphics\, animations\, and titles for video production including 2D and 3D composition. These graphics can be used directly with Final Cut Pro X. \nIn this class we will cover: \n\nUser Interface\nTemplates\nGroups and Layers\nBehaviors and Keyframes\nCamera movement and lights
URL:https://wincam.org/event/gfx-101b-introduction-motion-5/
LOCATION:WinCAM\, 32 Swanton St\, Winchester\, MA\, United States
CATEGORIES:GFX-101B
ATTACH;FMTTYPE=image/jpeg:https://wincam.org/wp-content/uploads/2017/01/4_gfx101b.jpg
ORGANIZER;CN="WinCAM Training":MAILTO:suzettef@wincam.org
END:VEVENT
BEGIN:VEVENT
DTSTART;TZID=UTC:20170216T180000
DTEND;TZID=UTC:20170216T193000
DTSTAMP:20260422T145824
CREATED:20170131T082629Z
LAST-MODIFIED:20170201T065725Z
UID:737-1487268000-1487273400@wincam.org
SUMMARY:EDT 102: Basic Editing with Final Cut Pro X
DESCRIPTION:Whether you’re editing for the first time or transitioning from Final Cut Pro 7 to X\, this class will teach you the basics of FCPX. This is a great beginner’s class to get you started and once you complete this class\, we encourage you to start editing your own projects in FCPX at your convenience to become more familiar and comfortable editing in FCPX. \nIn this class we will cover: \n\nUser Interface\nOverview of Libraries\, Events\, and Projects\nBasic Video and Audio Editing (tools\, effects\, transitions\, themes\, etc)\nExporting your final project
URL:https://wincam.org/event/edt-102-basic-editing-final-cut-pro-x/
LOCATION:WinCAM\, 32 Swanton St\, Winchester\, MA\, United States
CATEGORIES:EDT-102
ORGANIZER;CN="WinCAM Training":MAILTO:suzettef@wincam.org
END:VEVENT
BEGIN:VEVENT
DTSTART;TZID=UTC:20170215T180000
DTEND;TZID=UTC:20170215T190000
DTSTAMP:20260422T145824
CREATED:20170131T083112Z
LAST-MODIFIED:20170201T065747Z
UID:743-1487181600-1487185200@wincam.org
SUMMARY:STU 201: Advanced Studio B: Podcasting Basics
DESCRIPTION:Have you ever been interested in learning how to start your own podcast? Take this Podcasting Basics class to find out how to get started. You will learn steps on how to record\, how to choose a topic as well as tips on keeping your podcast entertaining.
URL:https://wincam.org/event/stu-201-advanced-studio-b-podcasting-basics/
LOCATION:WinCAM\, 32 Swanton St\, Winchester\, MA\, United States
CATEGORIES:STU-201
ATTACH;FMTTYPE=image/jpeg:https://wincam.org/wp-content/uploads/2017/01/9_stu-201-1.jpg
ORGANIZER;CN="WinCAM Training":MAILTO:suzettef@wincam.org
END:VEVENT
BEGIN:VEVENT
DTSTART;TZID=UTC:20170214T080000
DTEND;TZID=UTC:20170214T170000
DTSTAMP:20260422T145824
CREATED:20170131T074835Z
LAST-MODIFIED:20170201T065825Z
UID:703-1487059200-1487091600@wincam.org
SUMMARY:GFX 101A: Introduction to Photoshop Elements 11
DESCRIPTION:In this workshop\, you will learn the basics of Adobe Photoshop Elements. This software will allow you to edit\, enhance\, and retouch your photographs. Get creative as you want with Photoshop Elements using text\, brushes\, and even filters. This is a great program to learn if you would like to preserve your photos and keep them as a digital file. \nIn this class we will cover: \n\nLayout and workspace\nUnderstanding layers\nUsing texts\, filters\, and brushes\nResizing/cropping images\nConverting to black & white\nEnhancing your photos
URL:https://wincam.org/event/gfx-101a-introduction-photoshop-elements-11/
LOCATION:WinCAM\, 32 Swanton St\, Winchester\, MA\, United States
CATEGORIES:GFX-101A
ORGANIZER;CN="WinCAM Training":MAILTO:suzettef@wincam.org
END:VEVENT
BEGIN:VEVENT
DTSTART;TZID=UTC:20170207T180000
DTEND;TZID=UTC:20170207T190000
DTSTAMP:20260422T145824
CREATED:20170131T073026Z
LAST-MODIFIED:20170201T065937Z
UID:679-1486490400-1486494000@wincam.org
SUMMARY:FLD 101: Introduction to Field Production
DESCRIPTION:This class will teach you the basic functionalities of the field cameras (Canon Vixia and JVC GY- HM150U) and the use of tripods\, microphones\, cables\, etc. In this class\, you will learn about the process of creating a video from pre-production to production to post-production. We will cover various topics including but not limited to: \n\nCamera and tripod set up\nCamera functions\nCamera angles/moves\nGathering audio\nShot composition/framing (rule of thirds/180 degree rule)
URL:https://wincam.org/event/fld-101-introduction-field-production/
LOCATION:WinCAM\, 32 Swanton St\, Winchester\, MA\, United States
CATEGORIES:FLD-101
ATTACH;FMTTYPE=image/jpeg:https://wincam.org/wp-content/uploads/2017/01/1_fld-101-1.jpg
ORGANIZER;CN="WinCAM Training":MAILTO:suzettef@wincam.org
END:VEVENT
END:VCALENDAR